BEGIN:VCALENDAR
VERSION:2.0
PRODID:-//lapierresouslebois - ECPv4.9.12//NONSGML v1.0//EN
CALSCALE:GREGORIAN
METHOD:PUBLISH
X-WR-CALNAME:lapierresouslebois
X-ORIGINAL-URL:https://www.lapierresouslebois.com
X-WR-CALDESC:Évènements pour lapierresouslebois
BEGIN:VTIMEZONE
TZID:Europe/Paris
BEGIN:DAYLIGHT
TZOFFSETFROM:+0100
TZOFFSETTO:+0200
TZNAME:CEST
DTSTART:20260329T010000
END:DAYLIGHT
BEGIN:STANDARD
TZOFFSETFROM:+0200
TZOFFSETTO:+0100
TZNAME:CET
DTSTART:20261025T010000
END:STANDARD
END:VTIMEZONE
BEGIN:VEVENT
DTSTART;TZID=Europe/Paris:20260606T093000
DTEND;TZID=Europe/Paris:20260606T170000
DTSTAMP:20260423T151334
CREATED:20251127T154513Z
LAST-MODIFIED:20251127T154513Z
UID:9060-1780738200-1780765200@www.lapierresouslebois.com
SUMMARY:Respiration consciente/Rebirth le samedi 6 juin 2026
DESCRIPTION:[vc_row][vc_column width= »1/2″][vc_column_text]Respiration consciente/ Rebirth le samedi 6 juin \n  \n\n\n\n\n\n\n\n\n\n\n\n\nLa respiration Rebirth date des années 70. Elle est basée sur une technique d’hyperventilation et comme son nom l’indique \, elle permet de libérer les blocages et de naître de nouveau. Certains peuvent revivre des états en lien avec la naissance. La respiration permet de décrocher du mental\, de plonger dans son monde intérieur\, de contacter des mémoires\, des émotions\, des visions etc… en lien avec tous les traumatismes que nos cellules ont pu engrammer et  les déprogrammer. Lorsque nous vivons un choc émotionnel ou physique\, on se met en apnée\, par sidération. La respiration consciente va permettre de remettre de la vie dans un espace de nous  où la vie à été bloquée. L’intelligence du Souffle sait ce que nous avons besoin de libérer. Il n’y a qu’à s’abandonner à la respiration et au Souffle guérisseur. Chacun vit un voyage qui est unique\, et à chaque nouvelle expérience on visite un autre espace en soi afin d’être plus en accord avec Soi\, et de mieux respirer la Vie ! Cette pratique est accessible à tous sans prérequis (sauf pathologies psychiatriques après entretien).\nCertains peuvent craindre de perdre le contrôle. L’invitation est de lâcher prise mais on reste conscient durant toute la pratique et nous n’irons jamais plus loin que ce que nous pouvons traverser.\nLa respiration est ce qui nous permet de connecter le corps et l’esprit et de se sentir plus complet\nDans la joie de vous voir ou revoir. Pour toute info complémentaire\, n’hésitez pas à me joindre \nStéphane HIBON\, Dr en médecine générale\, ostéopathe\, homéopathe\, guérisseur\ntel 06 30 41 57 08 \nsite: lapierresouslebois.com\n\n\n\n\n\n\n\n\n\n\n\n\n\n\n\n\n\n\n\n\n\n\n\n\n\n\n\n\n\n\n\n\n\n\n\n\n\n\n\n\n\n\n\n\n\n\n\n\n\n\n\n\n\n\n\n\n\n\n\n  \n[/vc_column_text][/vc_column][vc_column width= »1/2″][vc_column_text]Date: le samedi 06 juin de 9h30 à 17h\nLieu  Planète Santé\, 1avenue Georges Frier \, Voiron\nTarif: 85 euros\nPrévoir une collation légère (fruits\, oléagineux.\, crudités…)\nInscription par mail ou SMS[/vc_column_text][/vc_column][/vc_row] \n
URL:https://www.lapierresouslebois.com/agenda/respiration-consciente-rebirth-le-samedi-06-juin-2026/
LOCATION:Planète Santé\, 1 avenue Georges Frier\, Voiron\, 38500\, France
CATEGORIES:froid-respiration
ATTACH;FMTTYPE=image/jpeg:https://www.lapierresouslebois.com/wp-content/uploads/2019/11/ciel.jpg
ORGANIZER;CN="St%C3%A9phane%20Hibon":MAILTO:stephane@lapierresouslebois.com
END:VEVENT
END:VCALENDAR